BEGIN:VCALENDAR
VERSION:2.0
PRODID:-//Healing Warriors Program - ECPv6.2.3//NONSGML v1.0//EN
CALSCALE:GREGORIAN
METHOD:PUBLISH
X-WR-CALNAME:Healing Warriors Program
X-ORIGINAL-URL:http://dev.healingwarriorsprogram.org
X-WR-CALDESC:Events for Healing Warriors Program
REFRESH-INTERVAL;VALUE=DURATION:PT1H
X-Robots-Tag:noindex
X-PUBLISHED-TTL:PT1H
BEGIN:VTIMEZONE
TZID:America/Denver
BEGIN:DAYLIGHT
TZOFFSETFROM:-0700
TZOFFSETTO:-0600
TZNAME:MDT
DTSTART:20220313T090000
END:DAYLIGHT
BEGIN:STANDARD
TZOFFSETFROM:-0600
TZOFFSETTO:-0700
TZNAME:MST
DTSTART:20221106T080000
END:STANDARD
BEGIN:DAYLIGHT
TZOFFSETFROM:-0700
TZOFFSETTO:-0600
TZNAME:MDT
DTSTART:20230312T090000
END:DAYLIGHT
BEGIN:STANDARD
TZOFFSETFROM:-0600
TZOFFSETTO:-0700
TZNAME:MST
DTSTART:20231105T080000
END:STANDARD
END:VTIMEZONE
BEGIN:VEVENT
DTSTART;TZID=America/Denver:20230521T083000
DTEND;TZID=America/Denver:20230521T140000
DTSTAMP:20260425T074719
CREATED:20230110T205710Z
LAST-MODIFIED:20230110T223640Z
UID:4773-1684657800-1684677600@dev.healingwarriorsprogram.org
SUMMARY:Healing Warriors 2nd Annual 5K Fun Run
DESCRIPTION:The Healing Warriors 2nd Annual 5k Fun Run/Walk is a fun\, family & pet friendly event held at the beautiful Spring Canyon Park. This professionally timed event is perfect for serious runners who may be looking to improve a time\, or just have a fun time running\, jogging or walking to support our Veteran families. Check-in begins at 9:00 a.m. and race begins at 10:00 a.m. \nEach registered participant will receive a branded race shirt*\, and goody bag. Activities at the Park begin at 9:00 a.m.\, snacks\, food\, music and much more! This is a 2 lap 5K race\, view the trail here. \nRegister here. \nSecure your sponsorship here.
URL:http://dev.healingwarriorsprogram.org/event/healing-warriors-2nd-annual-5k-fun-run/
LOCATION:Spring Canyon Park\, 3156 S Overland Trail\, Fort Collins\, CO\, 80526
ATTACH;FMTTYPE=image/jpeg:http://dev.healingwarriorsprogram.org/wp-content/uploads/2023/01/5k-fun-run-banner.jpg
END:VEVENT
BEGIN:VEVENT
DTSTART;TZID=America/Denver:20221008T163000
DTEND;TZID=America/Denver:20221008T210000
DTSTAMP:20260425T074719
CREATED:20220905T133209Z
LAST-MODIFIED:20220905T134626Z
UID:4486-1665246600-1665262800@dev.healingwarriorsprogram.org
SUMMARY:2022 Star Spangled Gala
DESCRIPTION:The annual Star Spangled Gala celebrating Veterans and supporting Healing Warriors Program free non-narcotic clinics for Veterans and their families\, has grown each year attracting guests from all along the Colorado front range.  The Star Spangled Gala will feature a VIP visit and a professional photo opportunity with the Aquarium’s Animal Ambassadors\, a live and silent auction\, gourmet cuisine\, wine pairing\, elegant signature cocktail\, and special jewelry gift bags for each guest provided by our sponsor. \nFor tickets\, click here: https://www.eventbrite.com/e/star-spangled-gala-denver-aquarium-tickets-381953421967
URL:http://dev.healingwarriorsprogram.org/event/2022-star-spangled-gala/
LOCATION:Denver Downtown Aquarium\, 700 Water St.\, Denver\, 80211\, United States
ATTACH;FMTTYPE=image/jpeg:http://dev.healingwarriorsprogram.org/wp-content/uploads/2022/09/star-spangled-gala-title.jpg
END:VEVENT
BEGIN:VEVENT
DTSTART;TZID=America/Denver:20220910T083000
DTEND;TZID=America/Denver:20220910T113000
DTSTAMP:20260425T074719
CREATED:20220905T132929Z
LAST-MODIFIED:20220905T235904Z
UID:4482-1662798600-1662809400@dev.healingwarriorsprogram.org
SUMMARY:Red\, White & Blue Veteran Pancake Breakfast
DESCRIPTION:A Free Pancake Breakfast provided by the Fort Collins Lions Club is coming to the Drake Centre from 8:30am to 11:30am on Saturday\, September 10th. \nSponsored by Blue Federal Credit Union\, all Veterans and caregivers are invited to attend. Information will be on hand about the Healing Warriors Program and their dedication to suicide prevention through free integrative\, non-narcotic treatments available for Veterans\, their spouse/partner and parents during National Suicide Prevention Awareness week. \nFor tickets\, click here: https://www.eventbrite.com/e/red-white-and-blue-free-veteran-pancake-breakfast-tickets-408987230817
URL:http://dev.healingwarriorsprogram.org/event/red-white-blue-veteran-pancake-breakfast/
LOCATION:Drake Centre\, 802 West Drake Road\, Fort Collins\, CO\, 80526\, United States
ATTACH;FMTTYPE=image/jpeg:http://dev.healingwarriorsprogram.org/wp-content/uploads/2022/09/red-white-blue.jpg
END:VEVENT
END:VCALENDAR